 BEGIN:VCALENDAR
VERSION:2.0
PRODID:-//wp-events-plugin.com//6.7.4.8//EN
BEGIN:VEVENT
UID:176@photoresk.com
DTSTART;TZID=Europe/Brussels:20260310T200000
DTEND;TZID=Europe/Brussels:20260310T220000
DTSTAMP:20260306T081137Z
URL:https://photoresk.com/events/photoresk-photo-talk-online-2026-03-10/
SUMMARY:Photoresk Photo Talk
DESCRIPTION:Theme of the day:  Beautiful or Ugly? — Bring 3 photos that 
 show something that you find beautiful and 3 that depict something you con
 sider ugly\, and let’s discuss what makes them work (or not).\nPhotoresk
  Photo Talk (Online)\nJoin us every two weeks for a relaxed and inspiring 
 online gathering of photography lovers from all over Europe and beyond! Wh
 ether you're a beginner\, a passionate hobbyist\, or a seasoned pro\, this
  is your space to connect\, share\, and grow.\nWhat to expect:\n\n 	Connec
 t with a truly supportive and international photo community\n 	Show your r
 ecent photos or favorite shots\n 	Get and give constructive feedback in a 
 friendly atmosphere\n 	Discover new techniques\, gear tips\, and creative 
 ideas\n 	Explore themes\, challenges\, and behind-the-scenes stories\n\nWh
 en:\nEvery two weeks — check the event schedule\nWhere:\nOnline (Zoom/Li
 nk provided upon RSVP)\nWho:\nOpen to all Photoresk members — free of ch
 arge
ATTACH;FMTTYPE=image/jpeg:https://photoresk.com/wp-content/uploads/2025/05
 /001-c7DSC_090700024.jpg
CATEGORIES:Online
LOCATION:https://us02web.zoom.us/meeting/register/tZ0rfuyprj4uGdNKN46dT7zD1
 88FcMr0Qlu5
END:VEVENT
BEGIN:VTIMEZONE
TZID:Europe/Brussels
X-LIC-LOCATION:Europe/Brussels
BEGIN:STANDARD
DTSTART:20251026T020000
TZOFFSETFROM:+0200
TZOFFSETTO:+0100
TZNAME:CET
END:STANDARD
END:VTIMEZONE
END:VCALENDAR