 BEGIN:VCALENDAR
VERSION:2.0
PRODID:-//wp-events-plugin.com//6.7.4.8//EN
BEGIN:VEVENT
UID:172@photoresk.com
DTSTART;TZID=Europe/Brussels:20260113T200000
DTEND;TZID=Europe/Brussels:20260113T220000
DTSTAMP:20260111T185938Z
URL:https://photoresk.com/events/photoresk-photo-talk-online-2026-01-13/
SUMMARY:Photoresk Photo Talk
DESCRIPTION:The subject of this evening will be FOOD! \nPhotoresk Photo Ta
 lk (Online)\nJoin us every two weeks for a relaxed and inspiring online ga
 thering of photography lovers from all over Europe and beyond! Whether you
 're a beginner\, a passionate hobbyist\, or a seasoned pro\, this is your 
 space to connect\, share\, and grow.\nWhat to expect:\n\n 	Connect with a 
 truly supportive and international photo community\n 	Show your recent pho
 tos or favorite shots\n 	Get and give constructive feedback in a friendly 
 atmosphere\n 	Discover new techniques\, gear tips\, and creative ideas\n 	
 Explore themes\, challenges\, and behind-the-scenes stories\n\nWhen:\nEver
 y two weeks — check the event schedule\nWhere:\nOnline (Zoom/Link provid
 ed upon RSVP)\nWho:\nOpen to all Photoresk members — free of charge
ATTACH;FMTTYPE=image/jpeg:https://photoresk.com/wp-content/uploads/2025/05
 /001-c7DSC_463400432_DX-scaled.jpg
CATEGORIES:Online
LOCATION:https://us02web.zoom.us/meeting/register/tZ0rfuyprj4uGdNKN46dT7zD1
 88FcMr0Qlu5
END:VEVENT
BEGIN:VTIMEZONE
TZID:Europe/Brussels
X-LIC-LOCATION:Europe/Brussels
BEGIN:STANDARD
DTSTART:20251026T020000
TZOFFSETFROM:+0200
TZOFFSETTO:+0100
TZNAME:CET
END:STANDARD
END:VTIMEZONE
END:VCALENDAR