 BEGIN:VCALENDAR
VERSION:2.0
PRODID:-//wp-events-plugin.com//6.7.4.8//EN
BEGIN:VEVENT
UID:166@photoresk.com
DTSTART;TZID=Europe/Brussels:20251021T200000
DTEND;TZID=Europe/Brussels:20251021T220000
DTSTAMP:20251007T204912Z
URL:https://photoresk.com/events/photoresk-photo-talk-online-2025-10-21/
SUMMARY:Photoresk Photo Talk
DESCRIPTION:Autumn has arrived in the northern hemisphere\, with shorter da
 ys and storms\, winds\, and rain across the countries. Show us your best p
 ictures capturing the chilly side of autumn.  \n\n\n\nPhotoresk Photo Tal
 k (Online)\nJoin us every two weeks for a relaxed and inspiring online gat
 hering of photography lovers from all over Europe and beyond! Whether you'
 re a beginner\, a passionate hobbyist\, or a seasoned pro\, this is your s
 pace to connect\, share\, and grow.\nWhat to expect:\n\n 	Connect with a t
 ruly supportive and international photo community\n 	Show your recent phot
 os or favorite shots\n 	Get and give constructive feedback in a friendly a
 tmosphere\n 	Discover new techniques\, gear tips\, and creative ideas\n 	E
 xplore themes\, challenges\, and behind-the-scenes stories\n\nWhen:\nEvery
  two weeks — check the event schedule\nWhere:\nOnline (Zoom/Link provide
 d upon RSVP)\nWho:\nOpen to all Photoresk members — free of charge
ATTACH;FMTTYPE=image/jpeg:https://photoresk.com/wp-content/uploads/2025/05
 /121027_DSF4604_LGX.jpg
CATEGORIES:Online
LOCATION:https://us02web.zoom.us/meeting/register/tZ0rfuyprj4uGdNKN46dT7zD1
 88FcMr0Qlu5
END:VEVENT
BEGIN:VTIMEZONE
TZID:Europe/Brussels
X-LIC-LOCATION:Europe/Brussels
BEGIN:DAYLIGHT
DTSTART:20250330T030000
TZOFFSETFROM:+0100
TZOFFSETTO:+0200
TZNAME:CEST
END:DAYLIGHT
END:VTIMEZONE
END:VCALENDAR