 BEGIN:VCALENDAR
VERSION:2.0
PRODID:-//wp-events-plugin.com//6.7.4.8//EN
BEGIN:VEVENT
UID:63@photoresk.com
DTSTART;TZID=Europe/Brussels:20250603T200000
DTEND;TZID=Europe/Brussels:20250604T220000
DTSTAMP:20250520T205934Z
URL:https://photoresk.com/events/photoresk-photo-talk-online-2025-06-03/
SUMMARY:Photoresk Photo Talk
DESCRIPTION:Subject of the Evening will be: \nSpirals or Flat (Surfaces)\n
 \n\n\n&nbsp\;\nPhotoresk Photo Talk (Online)\nJoin us every two weeks for 
 a relaxed and inspiring online gathering of photography lovers from all ov
 er Europe and beyond! Whether you're a beginner\, a passionate hobbyist\, 
 or a seasoned pro\, this is your space to connect\, share\, and grow.\nWha
 t to expect:\n\n 	Show your recent photos or favorite shots\n 	Get and giv
 e constructive feedback in a friendly atmosphere\n 	Discover new technique
 s\, gear tips\, and creative ideas\n 	Explore themes\, challenges\, and be
 hind-the-scenes stories\n 	Connect with a truly international and supporti
 ve photo community\n\nWhen:\nEvery two weeks — check the event schedule\
 nWhere:\nOnline (Zoom/Link provided upon RSVP)\nWho:\nOpen to all Photores
 k members — free of charge
ATTACH;FMTTYPE=image/jpeg:https://photoresk.com/wp-content/uploads/2025/05
 /IMG_0172_2.jpg
CATEGORIES:Online
LOCATION:http://Zoom
END:VEVENT
BEGIN:VTIMEZONE
TZID:Europe/Brussels
X-LIC-LOCATION:Europe/Brussels
BEGIN:DAYLIGHT
DTSTART:20250330T030000
TZOFFSETFROM:+0100
TZOFFSETTO:+0200
TZNAME:CEST
END:DAYLIGHT
END:VTIMEZONE
END:VCALENDAR