 BEGIN:VCALENDAR
VERSION:2.0
PRODID:-//wp-events-plugin.com//6.7.4.8//EN
BEGIN:VEVENT
UID:198@photoresk.com
DTSTART;TZID=Europe/Brussels:20260123T190000
DTEND;TZID=Europe/Brussels:20260123T220000
DTSTAMP:20260111T184725Z
URL:https://photoresk.com/events/photobrussels-festival-10th-edition-eveni
 ng-gallery-tour-at-st-gilles/
SUMMARY:PhotoBrussels Festival 10th edition - evening gallery tour at St. G
 illes
DESCRIPTION:The PhotoBrussels Festival reached its 10th edition! For one mo
 nth many galleries of Brussels will display photography works of artists f
 rom Belgium and around the world.\nhttps://www.photobrusselsfestival.com/\
 nOn Friday the 23rd\, one of its opening days\, we will step at the vernis
 sages of different galleries located at St. Gilles\, all participating to 
 the festival.\nWe start at 19 with Médor in Rue Blaes 261. If you arrive 
 later you would find us inside.\nAccess to galleries are free. For Maison 
 Pelgrims reservation is mandatory.\n\nAfter the walk we can have a drink 
 all together at the Parvis de St. Gilles.\n\nUpdates concerning this event
  will be posted on the meetup page.
ATTACH;FMTTYPE=image/jpeg:https://photoresk.com/wp-content/uploads/2026/01
 /affichePB-BAT3.jpg
CATEGORIES:Brussels
END:VEVENT
BEGIN:VTIMEZONE
TZID:Europe/Brussels
X-LIC-LOCATION:Europe/Brussels
BEGIN:STANDARD
DTSTART:20251026T020000
TZOFFSETFROM:+0200
TZOFFSETTO:+0100
TZNAME:CET
END:STANDARD
END:VTIMEZONE
END:VCALENDAR