 BEGIN:VCALENDAR
VERSION:2.0
PRODID:-//wp-events-plugin.com//6.7.4.8//EN
BEGIN:VEVENT
UID:196@photoresk.com
DTSTART;TZID=Europe/Brussels:20251206T150000
DTEND;TZID=Europe/Brussels:20251206T190000
DTSTAMP:20251127T102243Z
URL:https://photoresk.com/events/photo-walk-in-bruges-on-the-steps-of-magr
 itte-christmas-market/
SUMMARY:Photo Walk in Bruges - On the steps of Magritte + Christmas Market
DESCRIPTION:Dear all\, I propose again the concept of one of my first meetu
 ps organized in Belgium four years ago.\nIn this photowalk in Bruges we ex
 ercise on the surrealist paintings of René Magritte\, trying to emulate t
 he style of works like L'Empire des Lumieres (1954) adding of course our z
 est.\n\nWe desired light is the one of the twilight\, so beloved to Magrit
 te that in the north last longer\, as the Sun descends slower as it follow
 s a less tilted orbit respect the horizon line.\n\nThe Coupure channel of 
 Bruges would be a nice spot where we can find together water (for the refl
 ections)\, trees and old buildings. We will meet in front of the entrance 
 of the SNCB Brugge Station (side of the buses) at 15. People coming from B
 russels can take the IC 535 train from Brussels central at 13:56.\nAt the 
 end of the twilight\, when is completely dark\, we can gather all together
  to the Christmas market\, one of the most suggestive of Europe.\n\nIt's a
 dvisable to bring tripod and telephoto lens to have a flat perspective.\n\
 nThe event might be cancelled due to adverse weather condition\, any updat
 e will be posted at the Meetup page.
ATTACH;FMTTYPE=image/jpeg:https://photoresk.com/wp-content/uploads/2025/11
 /highres_500284042.jpg
CATEGORIES:Brussels
LOCATION:SNCB Brugge Station\, Stationsplein 5\, Brugge\, Belgium
X-APPLE-STRUCTURED-LOCATION;VALUE=URI;X-ADDRESS=Stationsplein 5\, Brugge\, 
 Belgium;X-APPLE-RADIUS=100;X-TITLE=SNCB Brugge Station:geo:0,0
END:VEVENT
BEGIN:VTIMEZONE
TZID:Europe/Brussels
X-LIC-LOCATION:Europe/Brussels
BEGIN:STANDARD
DTSTART:20251026T020000
TZOFFSETFROM:+0200
TZOFFSETTO:+0100
TZNAME:CET
END:STANDARD
END:VTIMEZONE
END:VCALENDAR