 BEGIN:VCALENDAR
VERSION:2.0
PRODID:-//wp-events-plugin.com//6.7.4.8//EN
BEGIN:VEVENT
UID:192@photoresk.com
DTSTART;TZID=Europe/Brussels:20251101T110000
DTEND;TZID=Europe/Brussels:20251101T140000
DTSTAMP:20251016T161555Z
URL:https://photoresk.com/events/autumn-leaves-at-duisburg-urban-forest/
SUMMARY:`Autumn leaves´ at Duisburg Urban Forest
DESCRIPTION:Hey everyone\,\nWe're going on a photo walk through Duisburg's 
 600-hectare urban forest - well\, just a small part of it\, but still! The
  forest is mostly made up of beech\, holly\, alder\, and birch trees. The 
 ground here is from the Oligocene era\, around 30 million years old.\nNow\
 , we're not sure how much autumn color will be left on the trees (the weat
 her’s not been great)\, but let's make the most of it and try to capture
  any autumn moments we can! We will surely find plenty of other interestin
 g photo opportunities.\n\n\n 	We'll meet 10:50 am at the (free) parking lo
 t in front of TURA (the gymnastics and field sports club) in Duisburg-Neud
 orf. There’s a bus stop just around the corner\, so it’s easy to get t
 o.\n 	From there\, it’s about a 1 km walk to the first stop: the wild bo
 ar enclosure. We’ll stop to snap some pics of those funny cute (and also
  highly dangerous) piggies.\n 	Next\, we’ll walk about 1.3 km to the old
  quarry\, which is our second stop.\n 	The way back to the starting point 
 will be another 1.7 km.\n\nPlease make sure you're in good enough shape fo
 r a bit of walking. Bring weather-appropriate clothing\, sturdy shoes\, an
 d something to drink. If you want to bring snacks\, feel free to share! (B
 ecause sharing is caring)\nLooking forward to seeing you all there!\nInfor
 mative links:\n\n 	https://www.duisburg.de/wohnenleben/florafauna/stadtwal
 d.php\n 	https://de.wikipedia.org/wiki/Duisburger_Stadtwald (German only)\
 n\nImportant note: \n\n\n 	Be sure you can make it before signing up! Do N
 OT be late. If you cannot join after all\, please cancel early enough.\n 	
 Only if there is heavy rain\, the event will be cancelled. \n\n
CATEGORIES:Whole Community
LOCATION:Duisburg Urban Forest\, Kammerstraße 232\, Duisburg\, NRW\, 47057
 \, Neudorf\, Germany
X-APPLE-STRUCTURED-LOCATION;VALUE=URI;X-ADDRESS=Kammerstraße 232\, Duisbur
 g\, NRW\, 47057\, Neudorf\, Germany;X-APPLE-RADIUS=100;X-TITLE=Duisburg Ur
 ban Forest:geo:0,0
END:VEVENT
BEGIN:VTIMEZONE
TZID:Europe/Brussels
X-LIC-LOCATION:Europe/Brussels
BEGIN:STANDARD
DTSTART:20251026T020000
TZOFFSETFROM:+0200
TZOFFSETTO:+0100
TZNAME:CET
END:STANDARD
END:VTIMEZONE
END:VCALENDAR