 BEGIN:VCALENDAR
VERSION:2.0
PRODID:-//wp-events-plugin.com//6.7.4.8//EN
BEGIN:VEVENT
UID:193@photoresk.com
DTSTART;TZID=Europe/Brussels:20251018T110000
DTEND;TZID=Europe/Brussels:20251018T160000
DTSTAMP:20251016T161702Z
URL:https://photoresk.com/events/autumn-foliage-provinciaal-groendomein-ri
 vierenhof/
SUMMARY:Autumn Foliage - Provinciaal Groendomein Rivierenhof
DESCRIPTION:Hello\, the foliage already started and this year I would like 
 to check the Provinciaal Groendomein Rivierenhof\, a big park with plenty 
 of ponds that offer perfect visuals of the changing trees.\n\nWe meet firs
 t at the big hall of Antwerp station at 10:30 (you can take the IC 3308 tr
 ain from Brussels Central at 9:32) and then we take the tram to reach the 
 parking by 11.\n\nBring a lunch box as I cannot guarantee you can find pro
 per places to eat in the park\, bring proper clothes and everything for a 
 day outside.\n\nAfter the photosession\, we can continue the meetup in one
  bar of Antwerp\, and eventually have also dinner together.\n\ncredit phot
 o © Wikipedia / Jeroen Verhoeven
ATTACH;FMTTYPE=image/jpeg:https://photoresk.com/wp-content/uploads/2025/10
 /rivierenhof.jpg
CATEGORIES:Aachen,Brussels,Maastricht
LOCATION:Provinciaal Groendomein Rivierenhof\, Parking West Rivierenhof\, A
 ntwerp\, Belgium
X-APPLE-STRUCTURED-LOCATION;VALUE=URI;X-ADDRESS=Parking West Rivierenhof\, 
 Antwerp\, Belgium;X-APPLE-RADIUS=100;X-TITLE=Provinciaal Groendomein Rivie
 renhof:geo:0,0
END:VEVENT
BEGIN:VTIMEZONE
TZID:Europe/Brussels
X-LIC-LOCATION:Europe/Brussels
BEGIN:DAYLIGHT
DTSTART:20250330T030000
TZOFFSETFROM:+0100
TZOFFSETTO:+0200
TZNAME:CEST
END:DAYLIGHT
END:VTIMEZONE
END:VCALENDAR